BEGIN:VCALENDAR
VERSION:2.0
PRODID:-//Date iCal//NONSGML kigkonsult.se iCalcreator 2.20.2//
METHOD:PUBLISH
BEGIN:VTIMEZONE
TZID:America/Toronto
BEGIN:STANDARD
DTSTART:20201101T020000
TZOFFSETFROM:-0400
TZOFFSETTO:-0500
RDATE:20211107T020000
TZNAME:EST
END:STANDARD
BEGIN:DAYLIGHT
DTSTART:20210314T020000
TZOFFSETFROM:-0500
TZOFFSETTO:-0400
TZNAME:EDT
END:DAYLIGHT
END:VTIMEZONE
BEGIN:VEVENT
UID:calendar.2641.events_uoft_date.0@www.sociology.utoronto.ca
CREATED:20220530T175246Z
DESCRIPTION:\nWhen and Where: \nMonday, May 31, 2021 1:50 pm to Friday, 
 June 04, 2021 1:50 pm \n\nDescription: \nThe annual meetings of the Canad
 ian Sociological Association, in partnership with the Federation of Human
 ities and Social Sciences and University of Alberta, will be held entirel
 y online in 2021.The Conference is part of the larger Federation of the Hu
 manities and Social Sciences Congress. More than 70 other associations wit
 hin the FHSS will hold their Conferences as well during the Congress.The C
 anadian Sociological Association Conference Theme for 2021 is: Resisting R
 acism and Colonialism \n\nCategories \n Conferences \n\nAudiences \n Facul
 tyGraduate Students
DTSTART;TZID=America/Toronto:20210531T135000
DTEND;TZID=America/Toronto:20210604T135000
LAST-MODIFIED:20220530T175246Z
SUMMARY:CSA at the Congress for the Humanities and Social Sciences
URL;TYPE=URI:https://www.sociology.utoronto.ca/events/csa-congress-humaniti
 es-and-social-sciences
END:VEVENT
END:VCALENDAR
