BEGIN:VCALENDAR
VERSION:2.0
PRODID:-//Date iCal//NONSGML kigkonsult.se iCalcreator 2.20.2//
METHOD:PUBLISH
BEGIN:VTIMEZONE
TZID:America/Toronto
BEGIN:STANDARD
DTSTART:20231105T020000
TZOFFSETFROM:-0400
TZOFFSETTO:-0500
TZNAME:EST
END:STANDARD
BEGIN:DAYLIGHT
DTSTART:20240310T020000
TZOFFSETFROM:-0500
TZOFFSETTO:-0400
TZNAME:EDT
END:DAYLIGHT
END:VTIMEZONE
BEGIN:VEVENT
UID:calendar.3533.events_uoft_date.0@www.sociology.utoronto.ca
CREATED:20231016T183706Z
DESCRIPTION:\nWhen and Where: \nFriday, October 20, 2023 11:00 am to 1:00
  pm \n 17160 \n Department of Sociology 17th Floor, Ontario Power Buildin
 g \n 700 University Ave., Toronto, ON M5G 1Z5 \n\nSpeakers \nMelissa A. 
 Milkie \n\nDescription: \nFriendly Feedback sessions will provide a forum 
 for students to get feedback on ideas, somewhat similar to practicum, bu
 t for all stages and all types of projects. The goal is to help students g
 et unstuck and move forward on their projects, which can be brought to th
 ese sessions in various forms—works in progress, ideas, and presentation
 s will be welcome. Students will briefly share their current research prob
 lem, and perhaps their research question/puzzle and data source. Feedback
  from faculty and postdocs may include: input for sharpening research ques
 tions, links to new literature, ideas for making the project viable thro
 ugh research designs/data sources. There is nothing to read ahead of time\
 , and these will be quite informal. We hope it allows you to make connecti
 ons to our faculty and postdocs. Lunch will be served.We look forward to t
 he next session. You may sign up for the Friday, Oct. 20 session here. \n
 700 University Ave., Toronto, ON M5G 1Z5 \n\nCategories \n MeetingWorksh
 ops \n\nAudiences \n Graduate Students
DTSTART;TZID=America/Toronto:20231020T110000
DTEND;TZID=America/Toronto:20231020T130000
LAST-MODIFIED:20240117T013401Z
LOCATION:700 University Ave., Toronto, ON M5G 1Z5
SUMMARY:Friendly Feedback session
URL;TYPE=URI:https://www.sociology.utoronto.ca/events/friendly-feedback-ses
 sion
END:VEVENT
END:VCALENDAR
