BEGIN:VCALENDAR
VERSION:2.0
PRODID:-//Date iCal//NONSGML kigkonsult.se iCalcreator 2.20.2//
METHOD:PUBLISH
BEGIN:VTIMEZONE
TZID:America/Toronto
BEGIN:STANDARD
DTSTART:20251102T020000
TZOFFSETFROM:-0400
TZOFFSETTO:-0500
TZNAME:EST
END:STANDARD
BEGIN:DAYLIGHT
DTSTART:20260308T020000
TZOFFSETFROM:-0500
TZOFFSETTO:-0400
TZNAME:EDT
END:DAYLIGHT
END:VTIMEZONE
BEGIN:VEVENT
UID:calendar.4203.events_uoft_date.0@www.sociology.utoronto.ca
CREATED:20260127T155031Z
DESCRIPTION:\nWhen and Where: \nTuesday, February 24, 2026 11:00 am to 12
 :30 pm \n Room 17020, 17th Floor \n 700 University Avenue \n\nSpeakers \n
 Prof. Melissa Milkie (Sociology) Prof. Shari Eli (Economics) Prof. Kazumi 
 Tsuchiya (Public Health) \n\nDescription: \nThis event will feature flash 
 talks from UofT faculty whose work covers a range of topics in population 
 research, including Melissa Milkie (sociology), Shari Eli (economics), 
 and Kazumi Tsuchiya (public health). All welcome! \n\nContact Information:
  \n Fabio Robibaro fabio.robibaro@mail.utoronto.ca \n700 University Avenue
  \n\nCategories \n SeminarSeminars \n\nAudiences \n Alumni and FriendsComm
 unityFacultyGraduate Students
DTSTART;TZID=America/Toronto:20260224T110000
DTEND;TZID=America/Toronto:20260224T123000
LAST-MODIFIED:20260204T152502Z
LOCATION:700 University Avenue
SUMMARY:TPN | POP Speaker Series: UofT Flash Session
URL;TYPE=URI:https://www.sociology.utoronto.ca/events/tpn-pop-speaker-serie
 s-uoft-flash-session
END:VEVENT
END:VCALENDAR
